BEGIN:VCALENDAR
VERSION:2.0
PRODID:-//The CraftCade - Bismarck - ECPv6.15.13//NONSGML v1.0//EN
CALSCALE:GREGORIAN
METHOD:PUBLISH
X-WR-CALNAME:The CraftCade - Bismarck
X-ORIGINAL-URL:https://www.thecraftcade.com
X-WR-CALDESC:Events for The CraftCade - Bismarck
REFRESH-INTERVAL;VALUE=DURATION:PT1H
X-Robots-Tag:noindex
X-PUBLISHED-TTL:PT1H
BEGIN:VTIMEZONE
TZID:America/North_Dakota/Center
BEGIN:DAYLIGHT
TZOFFSETFROM:-0600
TZOFFSETTO:-0500
TZNAME:CDT
DTSTART:20220313T080000
END:DAYLIGHT
BEGIN:STANDARD
TZOFFSETFROM:-0500
TZOFFSETTO:-0600
TZNAME:CST
DTSTART:20221106T070000
END:STANDARD
BEGIN:DAYLIGHT
TZOFFSETFROM:-0600
TZOFFSETTO:-0500
TZNAME:CDT
DTSTART:20230312T080000
END:DAYLIGHT
BEGIN:STANDARD
TZOFFSETFROM:-0500
TZOFFSETTO:-0600
TZNAME:CST
DTSTART:20231105T070000
END:STANDARD
BEGIN:DAYLIGHT
TZOFFSETFROM:-0600
TZOFFSETTO:-0500
TZNAME:CDT
DTSTART:20240310T080000
END:DAYLIGHT
BEGIN:STANDARD
TZOFFSETFROM:-0500
TZOFFSETTO:-0600
TZNAME:CST
DTSTART:20241103T070000
END:STANDARD
END:VTIMEZONE
BEGIN:VEVENT
DTSTART;TZID=America/North_Dakota/Center:20230813T110000
DTEND;TZID=America/North_Dakota/Center:20230813T210000
DTSTAMP:20260425T214638
CREATED:20230110T064531Z
LAST-MODIFIED:20230813T221742Z
UID:7164-1691924400-1691960400@www.thecraftcade.com
SUMMARY:Sunday Family Funday
DESCRIPTION:The CraftCade is open to all ages on Sundays. Share the retro gaming experience as a family!\nNY-Style Pizza\, Baked Sandwiches\, Kid-friendly Appetizers.\nAnd for the Adults – a 20-tap craft beer wall 🙂 \nPlease Note: Children under 14 should be accompanied by a parent or adult guardian. Free-play games are intended for customers who are purchasing food or drinks.
URL:https://www.thecraftcade.com/event/family-funday-bismarck-kid-friendly-2/
LOCATION:The CraftCade\, 405 North 4th St.\, Bismarck\, ND\, 58501\, United States
CATEGORIES:All Events
ATTACH;FMTTYPE=image/jpeg:https://www.thecraftcade.com/wp-content/uploads/2020/06/Sunday-family-funday-returns.jpg
END:VEVENT
BEGIN:VEVENT
DTSTART;TZID=America/North_Dakota/Center:20230820T110000
DTEND;TZID=America/North_Dakota/Center:20230820T210000
DTSTAMP:20260425T214638
CREATED:20230301T174616Z
LAST-MODIFIED:20230813T221813Z
UID:7166-1692529200-1692565200@www.thecraftcade.com
SUMMARY:Sunday Family Funday
DESCRIPTION:The CraftCade is open to all ages on Sundays. Share the retro gaming experience as a family!\nNY-Style Pizza\, Baked Sandwiches\, Kid-friendly Appetizers.\nAnd for the Adults – a 20-tap craft beer wall 🙂 \nPlease Note: Children under 14 should be accompanied by a parent or adult guardian. Free-play games are intended for customers who are purchasing food or drinks.
URL:https://www.thecraftcade.com/event/family-funday-bismarck/
LOCATION:The CraftCade\, 405 North 4th St.\, Bismarck\, ND\, 58501\, United States
CATEGORIES:All Events
ATTACH;FMTTYPE=image/jpeg:https://www.thecraftcade.com/wp-content/uploads/2019/05/60963676_1924954647610134_8580723459108110336_n.jpg
END:VEVENT
END:VCALENDAR