BEGIN:VCALENDAR
VERSION:2.0
PRODID:-//The CraftCade - Bismarck - ECPv6.15.13//NONSGML v1.0//EN
CALSCALE:GREGORIAN
METHOD:PUBLISH
X-WR-CALNAME:The CraftCade - Bismarck
X-ORIGINAL-URL:https://www.thecraftcade.com
X-WR-CALDESC:Events for The CraftCade - Bismarck
REFRESH-INTERVAL;VALUE=DURATION:PT1H
X-Robots-Tag:noindex
X-PUBLISHED-TTL:PT1H
BEGIN:VTIMEZONE
TZID:America/North_Dakota/Center
BEGIN:DAYLIGHT
TZOFFSETFROM:-0600
TZOFFSETTO:-0500
TZNAME:CDT
DTSTART:20200308T080000
END:DAYLIGHT
BEGIN:STANDARD
TZOFFSETFROM:-0500
TZOFFSETTO:-0600
TZNAME:CST
DTSTART:20201101T070000
END:STANDARD
BEGIN:DAYLIGHT
TZOFFSETFROM:-0600
TZOFFSETTO:-0500
TZNAME:CDT
DTSTART:20210314T080000
END:DAYLIGHT
BEGIN:STANDARD
TZOFFSETFROM:-0500
TZOFFSETTO:-0600
TZNAME:CST
DTSTART:20211107T070000
END:STANDARD
BEGIN:DAYLIGHT
TZOFFSETFROM:-0600
TZOFFSETTO:-0500
TZNAME:CDT
DTSTART:20220313T080000
END:DAYLIGHT
BEGIN:STANDARD
TZOFFSETFROM:-0500
TZOFFSETTO:-0600
TZNAME:CST
DTSTART:20221106T070000
END:STANDARD
END:VTIMEZONE
BEGIN:VEVENT
DTSTART;TZID=America/North_Dakota/Center:20210502T110000
DTEND;TZID=America/North_Dakota/Center:20210502T210000
DTSTAMP:20260423T181712
CREATED:20210427T220619Z
LAST-MODIFIED:20210428T164320Z
UID:6932-1619953200-1619989200@www.thecraftcade.com
SUMMARY:Sunday Family Funday
DESCRIPTION:The CraftCade is open to all ages on Sundays. Share the retro gaming experience as a family!\nNY-Style Pizza\, Baked Sandwiches\, Kid-friendly Appetizers.\nAnd for the Adults – a 20-tap craft beer wall 🙂 \nPlease Note: Children under 14 should be accompanied by a parent or adult guardian. Free-play games are intended for customers who are purchasing food or drinks.
URL:https://www.thecraftcade.com/event/sunday-family-funday-bismarck/
LOCATION:The CraftCade\, 405 North 4th St.\, Bismarck\, ND\, 58501\, United States
CATEGORIES:All Events
ATTACH;FMTTYPE=image/jpeg:https://www.thecraftcade.com/wp-content/uploads/2019/05/60963676_1924954647610134_8580723459108110336_n.jpg
END:VEVENT
BEGIN:VEVENT
DTSTART;TZID=America/North_Dakota/Center:20210509T110000
DTEND;TZID=America/North_Dakota/Center:20210509T210000
DTSTAMP:20260423T181712
CREATED:20210428T164421Z
LAST-MODIFIED:20210512T171429Z
UID:7162-1620558000-1620594000@www.thecraftcade.com
SUMMARY:Sunday Family Funday
DESCRIPTION:The CraftCade is open to all ages on Sundays. Share the retro gaming experience as a family!\nNY-Style Pizza\, Baked Sandwiches\, Kid-friendly Appetizers.\nAnd for the Adults – a 20-tap craft beer wall 🙂 \nPlease Note: Children under 14 should be accompanied by a parent or adult guardian. Free-play games are intended for customers who are purchasing food or drinks.
URL:https://www.thecraftcade.com/event/sunday-family-funday-bismarck-kid-friendly/
LOCATION:The CraftCade\, 405 North 4th St.\, Bismarck\, ND\, 58501\, United States
CATEGORIES:All Events
ATTACH;FMTTYPE=image/jpeg:https://www.thecraftcade.com/wp-content/uploads/2019/05/60963676_1924954647610134_8580723459108110336_n.jpg
END:VEVENT
END:VCALENDAR