BEGIN:VCALENDAR
VERSION:2.0
PRODID:-//The CraftCade - Bismarck - ECPv6.15.13//NONSGML v1.0//EN
CALSCALE:GREGORIAN
METHOD:PUBLISH
X-WR-CALNAME:The CraftCade - Bismarck
X-ORIGINAL-URL:https://www.thecraftcade.com
X-WR-CALDESC:Events for The CraftCade - Bismarck
REFRESH-INTERVAL;VALUE=DURATION:PT1H
X-Robots-Tag:noindex
X-PUBLISHED-TTL:PT1H
BEGIN:VTIMEZONE
TZID:America/North_Dakota/Center
BEGIN:DAYLIGHT
TZOFFSETFROM:-0600
TZOFFSETTO:-0500
TZNAME:CDT
DTSTART:20200308T080000
END:DAYLIGHT
BEGIN:STANDARD
TZOFFSETFROM:-0500
TZOFFSETTO:-0600
TZNAME:CST
DTSTART:20201101T070000
END:STANDARD
BEGIN:DAYLIGHT
TZOFFSETFROM:-0600
TZOFFSETTO:-0500
TZNAME:CDT
DTSTART:20210314T080000
END:DAYLIGHT
BEGIN:STANDARD
TZOFFSETFROM:-0500
TZOFFSETTO:-0600
TZNAME:CST
DTSTART:20211107T070000
END:STANDARD
BEGIN:DAYLIGHT
TZOFFSETFROM:-0600
TZOFFSETTO:-0500
TZNAME:CDT
DTSTART:20220313T080000
END:DAYLIGHT
BEGIN:STANDARD
TZOFFSETFROM:-0500
TZOFFSETTO:-0600
TZNAME:CST
DTSTART:20221106T070000
END:STANDARD
END:VTIMEZONE
BEGIN:VEVENT
DTSTART;TZID=America/North_Dakota/Center:20210207T110000
DTEND;TZID=America/North_Dakota/Center:20210207T210000
DTSTAMP:20260423T224330
CREATED:20210131T202400Z
LAST-MODIFIED:20210131T202400Z
UID:6883-1612695600-1612731600@www.thecraftcade.com
SUMMARY:Sunday Family Funday
DESCRIPTION:The CraftCade is open to all ages on Sundays. Share the retro gaming experience as a family!\nNY-Style Pizza\, Baked Sandwiches\, Kid-friendly Appetizers.\nAnd for the Adults – a 20-tap craft beer wall 🙂 \nPlease Note: Children under 14 should be accompanied by a parent or adult guardian. Free-play games are intended for customers who are purchasing food or drinks.
URL:https://www.thecraftcade.com/event/sunday-family-funday-feb-7/
LOCATION:The CraftCade\, 405 North 4th St.\, Bismarck\, ND\, 58501\, United States
CATEGORIES:All Events
ATTACH;FMTTYPE=image/jpeg:https://www.thecraftcade.com/wp-content/uploads/2019/05/60963676_1924954647610134_8580723459108110336_n.jpg
END:VEVENT
BEGIN:VEVENT
DTSTART;TZID=America/North_Dakota/Center:20210214T110000
DTEND;TZID=America/North_Dakota/Center:20210214T210000
DTSTAMP:20260423T224330
CREATED:20210131T202428Z
LAST-MODIFIED:20210131T202428Z
UID:6885-1613300400-1613336400@www.thecraftcade.com
SUMMARY:Sunday Family Funday
DESCRIPTION:The CraftCade is open to all ages on Sundays. Share the retro gaming experience as a family!\nNY-Style Pizza\, Baked Sandwiches\, Kid-friendly Appetizers.\nAnd for the Adults – a 20-tap craft beer wall 🙂 \nPlease Note: Children under 14 should be accompanied by a parent or adult guardian. Free-play games are intended for customers who are purchasing food or drinks.
URL:https://www.thecraftcade.com/event/sunday-family-funday-feb-14/
LOCATION:The CraftCade\, 405 North 4th St.\, Bismarck\, ND\, 58501\, United States
CATEGORIES:All Events
ATTACH;FMTTYPE=image/jpeg:https://www.thecraftcade.com/wp-content/uploads/2019/05/60963676_1924954647610134_8580723459108110336_n.jpg
END:VEVENT
BEGIN:VEVENT
DTSTART;TZID=America/North_Dakota/Center:20210221T110000
DTEND;TZID=America/North_Dakota/Center:20210221T210000
DTSTAMP:20260423T224330
CREATED:20210131T202503Z
LAST-MODIFIED:20210131T202503Z
UID:6887-1613905200-1613941200@www.thecraftcade.com
SUMMARY:Sunday Family Funday
DESCRIPTION:The CraftCade is open to all ages on Sundays. Share the retro gaming experience as a family!\nNY-Style Pizza\, Baked Sandwiches\, Kid-friendly Appetizers.\nAnd for the Adults – a 20-tap craft beer wall 🙂 \nPlease Note: Children under 14 should be accompanied by a parent or adult guardian. Free-play games are intended for customers who are purchasing food or drinks.
URL:https://www.thecraftcade.com/event/sunday-family-funday-feb-21/
LOCATION:The CraftCade\, 405 North 4th St.\, Bismarck\, ND\, 58501\, United States
CATEGORIES:All Events
ATTACH;FMTTYPE=image/jpeg:https://www.thecraftcade.com/wp-content/uploads/2019/05/60963676_1924954647610134_8580723459108110336_n.jpg
END:VEVENT
END:VCALENDAR